BEGIN:VCALENDAR
VERSION:2.0
PRODID:-//Svenska Livräddningssällskapet - ECPv6.15.18//NONSGML v1.0//EN
CALSCALE:GREGORIAN
METHOD:PUBLISH
X-WR-CALNAME:Svenska Livräddningssällskapet
X-ORIGINAL-URL:https://svenskalivraddningssallskapet.se
X-WR-CALDESC:Händelser för Svenska Livräddningssällskapet
REFRESH-INTERVAL;VALUE=DURATION:PT1H
X-Robots-Tag:noindex
X-PUBLISHED-TTL:PT1H
BEGIN:VTIMEZONE
TZID:Europe/Stockholm
BEGIN:DAYLIGHT
TZOFFSETFROM:+0100
TZOFFSETTO:+0200
TZNAME:CEST
DTSTART:20260329T010000
END:DAYLIGHT
BEGIN:STANDARD
TZOFFSETFROM:+0200
TZOFFSETTO:+0100
TZNAME:CET
DTSTART:20261025T010000
END:STANDARD
BEGIN:DAYLIGHT
TZOFFSETFROM:+0100
TZOFFSETTO:+0200
TZNAME:CEST
DTSTART:20270328T010000
END:DAYLIGHT
BEGIN:STANDARD
TZOFFSETFROM:+0200
TZOFFSETTO:+0100
TZNAME:CET
DTSTART:20271031T010000
END:STANDARD
BEGIN:DAYLIGHT
TZOFFSETFROM:+0100
TZOFFSETTO:+0200
TZNAME:CEST
DTSTART:20280326T010000
END:DAYLIGHT
BEGIN:STANDARD
TZOFFSETFROM:+0200
TZOFFSETTO:+0100
TZNAME:CET
DTSTART:20281029T010000
END:STANDARD
END:VTIMEZONE
BEGIN:VEVENT
DTSTART;VALUE=DATE:20270521
DTEND;VALUE=DATE:20270522
DTSTAMP:20260420T034917
CREATED:20251008T102255Z
LAST-MODIFIED:20251008T102255Z
UID:6298-1810857600-1810943999@svenskalivraddningssallskapet.se
SUMMARY:Internationella flytvästdagen
DESCRIPTION:”Wear It\, Sweden! – Den bästa flytvästen är den du har på dig”. \nKampanjen genomförs på initiativ av Svenska Livräddningssällskapet\, men budskapet bärs av en lång rad andra organisationer och myndigheter\, bland andra: \nSvenska Båtunionen\, Svenska Kryssarklubben\, Svenska Seglarförbundet\, Svenska Kanotförbundet\, Transportstyrelsen\, Försvarsmakten\, Polisen\, SMHI\, Kustbevakningen\, Sjöfartsverket\, Södra Älvsborgs Räddningstjänstförbund med flera
URL:https://svenskalivraddningssallskapet.se/event/internationella-flytvastdagen-2/
ATTACH;FMTTYPE=image/png:https://svenskalivraddningssallskapet.se/wp-content/uploads/2023/12/Kalender-wear-it-16.9.png
END:VEVENT
END:VCALENDAR