BEGIN:VCALENDAR
VERSION:2.0
PRODID:-//Svenska Livräddningssällskapet - ECPv6.15.18//NONSGML v1.0//EN
CALSCALE:GREGORIAN
METHOD:PUBLISH
X-ORIGINAL-URL:https://svenskalivraddningssallskapet.se
X-WR-CALDESC:Händelser för Svenska Livräddningssällskapet
REFRESH-INTERVAL;VALUE=DURATION:PT1H
X-Robots-Tag:noindex
X-PUBLISHED-TTL:PT1H
BEGIN:VTIMEZONE
TZID:Europe/Stockholm
BEGIN:DAYLIGHT
TZOFFSETFROM:+0100
TZOFFSETTO:+0200
TZNAME:CEST
DTSTART:20250330T010000
END:DAYLIGHT
BEGIN:STANDARD
TZOFFSETFROM:+0200
TZOFFSETTO:+0100
TZNAME:CET
DTSTART:20251026T010000
END:STANDARD
BEGIN:DAYLIGHT
TZOFFSETFROM:+0100
TZOFFSETTO:+0200
TZNAME:CEST
DTSTART:20260329T010000
END:DAYLIGHT
BEGIN:STANDARD
TZOFFSETFROM:+0200
TZOFFSETTO:+0100
TZNAME:CET
DTSTART:20261025T010000
END:STANDARD
BEGIN:DAYLIGHT
TZOFFSETFROM:+0100
TZOFFSETTO:+0200
TZNAME:CEST
DTSTART:20270328T010000
END:DAYLIGHT
BEGIN:STANDARD
TZOFFSETFROM:+0200
TZOFFSETTO:+0100
TZNAME:CET
DTSTART:20271031T010000
END:STANDARD
END:VTIMEZONE
BEGIN:VEVENT
DTSTART;VALUE=DATE:20261201
DTEND;VALUE=DATE:20261202
DTSTAMP:20260420T011850
CREATED:20251008T104147Z
LAST-MODIFIED:20251008T104147Z
UID:6314-1796083200-1796169599@svenskalivraddningssallskapet.se
SUMMARY:Simborgarmärket för 2027 släpps
DESCRIPTION:1 december varje år släpper vi färgen på simborgarmärket för kommande år.
URL:https://svenskalivraddningssallskapet.se/event/simborgarmarket-for-2027-slapps/
ATTACH;FMTTYPE=image/jpeg:https://svenskalivraddningssallskapet.se/wp-content/uploads/2023/10/sls000_simborgaraffisch_2023_1_-1.jpg
END:VEVENT
END:VCALENDAR