BEGIN:VCALENDAR
VERSION:2.0
PRODID:-//Svenska Livräddningssällskapet - ECPv6.15.18//NONSGML v1.0//EN
CALSCALE:GREGORIAN
METHOD:PUBLISH
X-WR-CALNAME:Svenska Livräddningssällskapet
X-ORIGINAL-URL:https://svenskalivraddningssallskapet.se
X-WR-CALDESC:Händelser för Svenska Livräddningssällskapet
REFRESH-INTERVAL;VALUE=DURATION:PT1H
X-Robots-Tag:noindex
X-PUBLISHED-TTL:PT1H
BEGIN:VTIMEZONE
TZID:Europe/Stockholm
BEGIN:DAYLIGHT
TZOFFSETFROM:+0100
TZOFFSETTO:+0200
TZNAME:CEST
DTSTART:20250330T010000
END:DAYLIGHT
BEGIN:STANDARD
TZOFFSETFROM:+0200
TZOFFSETTO:+0100
TZNAME:CET
DTSTART:20251026T010000
END:STANDARD
BEGIN:DAYLIGHT
TZOFFSETFROM:+0100
TZOFFSETTO:+0200
TZNAME:CEST
DTSTART:20260329T010000
END:DAYLIGHT
BEGIN:STANDARD
TZOFFSETFROM:+0200
TZOFFSETTO:+0100
TZNAME:CET
DTSTART:20261025T010000
END:STANDARD
BEGIN:DAYLIGHT
TZOFFSETFROM:+0100
TZOFFSETTO:+0200
TZNAME:CEST
DTSTART:20270328T010000
END:DAYLIGHT
BEGIN:STANDARD
TZOFFSETFROM:+0200
TZOFFSETTO:+0100
TZNAME:CET
DTSTART:20271031T010000
END:STANDARD
END:VTIMEZONE
BEGIN:VEVENT
DTSTART;VALUE=DATE:20260905
DTEND;VALUE=DATE:20260907
DTSTAMP:20260419T211520
CREATED:20251008T103704Z
LAST-MODIFIED:20251008T103704Z
UID:6310-1788566400-1788739199@svenskalivraddningssallskapet.se
SUMMARY:Rådsmöte
DESCRIPTION:
URL:https://svenskalivraddningssallskapet.se/event/radsmote-3/
ATTACH;FMTTYPE=image/png:https://svenskalivraddningssallskapet.se/wp-content/uploads/2024/10/Radsmote.png
END:VEVENT
BEGIN:VEVENT
DTSTART;VALUE=DATE:20260926
DTEND;VALUE=DATE:20260928
DTSTAMP:20260419T211520
CREATED:20251211T110436Z
LAST-MODIFIED:20251211T110907Z
UID:6594-1790380800-1790553599@svenskalivraddningssallskapet.se
SUMMARY:Utbildarträff 1 - Uppdateringen för våra utbildare
DESCRIPTION:Under 2026 ska alla utbildare delta på ett av de tillfällen för re certifiering som erbjuds för att behålla sin utbildarcertifiering\, Det erbjuds tre tillfällen under hösten för dig att välja på. Tillfällena är utspridda i landet med vardags- och helgalternativ. För dig som missade uppdateringen 2024\, eller inte genomförde alla vattenmoment\, erbjuder vi en extra halvdag. Då får du möjlighet att gå igenom samtliga vattenmoment som ingår i våra utbildningar. \nDatum:\nLördag 26 september\nSöndag 27 september *endast för de som missade uppdatering 2024 \n*De som blev godkända på uppdatering 2024 deltar endast på lördagen. \nPlats: information kommer snart \nKompetenser: Simlärar-\, Babysiminstruktörs- och Poollivräddarutbildare \nAnmälan: mer information samt anmälan kommer under våren
URL:https://svenskalivraddningssallskapet.se/event/utbildartraff-uppdateringen-for-vara-utbildare/
ATTACH;FMTTYPE=image/png:https://svenskalivraddningssallskapet.se/wp-content/uploads/2024/03/Utbildartraff-2024-interna-nyheter-intranat.png
END:VEVENT
END:VCALENDAR