BEGIN:VCALENDAR
VERSION:2.0
PRODID:-//Svenska Livräddningssällskapet - ECPv6.15.18//NONSGML v1.0//EN
CALSCALE:GREGORIAN
METHOD:PUBLISH
X-WR-CALNAME:Svenska Livräddningssällskapet
X-ORIGINAL-URL:https://svenskalivraddningssallskapet.se
X-WR-CALDESC:Händelser för Svenska Livräddningssällskapet
REFRESH-INTERVAL;VALUE=DURATION:PT1H
X-Robots-Tag:noindex
X-PUBLISHED-TTL:PT1H
BEGIN:VTIMEZONE
TZID:Europe/Stockholm
BEGIN:DAYLIGHT
TZOFFSETFROM:+0100
TZOFFSETTO:+0200
TZNAME:CEST
DTSTART:20250330T010000
END:DAYLIGHT
BEGIN:STANDARD
TZOFFSETFROM:+0200
TZOFFSETTO:+0100
TZNAME:CET
DTSTART:20251026T010000
END:STANDARD
BEGIN:DAYLIGHT
TZOFFSETFROM:+0100
TZOFFSETTO:+0200
TZNAME:CEST
DTSTART:20260329T010000
END:DAYLIGHT
BEGIN:STANDARD
TZOFFSETFROM:+0200
TZOFFSETTO:+0100
TZNAME:CET
DTSTART:20261025T010000
END:STANDARD
BEGIN:DAYLIGHT
TZOFFSETFROM:+0100
TZOFFSETTO:+0200
TZNAME:CEST
DTSTART:20270328T010000
END:DAYLIGHT
BEGIN:STANDARD
TZOFFSETFROM:+0200
TZOFFSETTO:+0100
TZNAME:CET
DTSTART:20271031T010000
END:STANDARD
END:VTIMEZONE
BEGIN:VEVENT
DTSTART;TZID=Europe/Stockholm:20260108T180000
DTEND;TZID=Europe/Stockholm:20260108T193000
DTSTAMP:20260419T182245
CREATED:20251211T104249Z
LAST-MODIFIED:20251211T104249Z
UID:6589-1767895200-1767900600@svenskalivraddningssallskapet.se
SUMMARY:Teams - Genomgång av utbildningsplattform & frågestund
DESCRIPTION:Välj mellan två tillfällen:  \nTillfälle 1: \ntorsdag 8 januari 18:00 – 19:30 \nvia teams \nTillfälle 2:  \nonsdag 14 januari 18:00 – 19:30 \nvia teams \nInnehåll:\nGenomgång av hur du som utbildare använder och manövrerar i plattformen. \nMöjlighet till att ställa frågor\, mejla gärna in frågor i förväg till utbildning@sls.a.se \nPresentation av ny utbildningsansvarig\, Lisa Gawell. \nAnmäl dig till valfritt tillfälle genom att mejla utbildning@sls.a.se senast 17:00 samma dag. \nOBS! Viktigt att du har varit inne i plattformen och gjort utbildningen innan detta tillfälle.
URL:https://svenskalivraddningssallskapet.se/event/teams-genomgang-av-utbildningsplattform-fragestund/
ATTACH;FMTTYPE=image/png:https://svenskalivraddningssallskapet.se/wp-content/uploads/2025/12/Copy-of-Copy-of-Landslagsledning-sokes.png
END:VEVENT
BEGIN:VEVENT
DTSTART;TZID=Europe/Stockholm:20260114T180000
DTEND;TZID=Europe/Stockholm:20260114T193000
DTSTAMP:20260419T182245
CREATED:20251211T104530Z
LAST-MODIFIED:20251211T104530Z
UID:6592-1768413600-1768419000@svenskalivraddningssallskapet.se
SUMMARY:Teams – Genomgång av utbildningsplattform & frågestund
DESCRIPTION:Välj mellan två tillfällen: \nTillfälle 1: \ntorsdag 8 januari 18:00 – 19:30 \nvia teams \nTillfälle 2:  \nonsdag 14 januari 18:00 – 19:30 \nvia teams \nInnehåll:\nGenomgång av hur du som utbildare använder och manövrerar i plattformen. \nMöjlighet till att ställa frågor\, mejla gärna in frågor i förväg till utbildning@sls.a.se \nPresentation av ny utbildningsansvarig\, Lisa Gawell. \nAnmäl dig till valfritt tillfälle genom att mejla utbildning@sls.a.se senast 17:00 samma dag. \nOBS! Viktigt att du har varit inne i plattformen och gjort utbildningen innan detta tillfälle.
URL:https://svenskalivraddningssallskapet.se/event/teams-genomgang-av-utbildningsplattform-fragestund-2/
ATTACH;FMTTYPE=image/png:https://svenskalivraddningssallskapet.se/wp-content/uploads/2025/12/Copy-of-Copy-of-Landslagsledning-sokes.png
END:VEVENT
BEGIN:VEVENT
DTSTART;VALUE=DATE:20260131
DTEND;VALUE=DATE:20260202
DTSTAMP:20260419T182245
CREATED:20251006T082932Z
LAST-MODIFIED:20251006T082932Z
UID:6289-1769817600-1769990399@svenskalivraddningssallskapet.se
SUMMARY:Utbildning utbildare helg 1
DESCRIPTION:En utbildning där vi utbildar vi nya utbildare som ska utbilda simlärare\, poollivräddare eller babysimsinstruktörer. \n\n\nUtbildningen är två helger 31 januari -1 februari samt 13-15 februari.
URL:https://svenskalivraddningssallskapet.se/event/utbildning-utbildare-helg-1/
ATTACH;FMTTYPE=image/png:https://svenskalivraddningssallskapet.se/wp-content/uploads/2023/10/utbildare-babysim.png
END:VEVENT
END:VCALENDAR