BEGIN:VCALENDAR
VERSION:2.0
PRODID:-//Svenska Livräddningssällskapet - ECPv6.15.18//NONSGML v1.0//EN
CALSCALE:GREGORIAN
METHOD:PUBLISH
X-WR-CALNAME:Svenska Livräddningssällskapet
X-ORIGINAL-URL:https://svenskalivraddningssallskapet.se
X-WR-CALDESC:Händelser för Svenska Livräddningssällskapet
REFRESH-INTERVAL;VALUE=DURATION:PT1H
X-Robots-Tag:noindex
X-PUBLISHED-TTL:PT1H
BEGIN:VTIMEZONE
TZID:Europe/Stockholm
BEGIN:DAYLIGHT
TZOFFSETFROM:+0100
TZOFFSETTO:+0200
TZNAME:CEST
DTSTART:20260329T010000
END:DAYLIGHT
BEGIN:STANDARD
TZOFFSETFROM:+0200
TZOFFSETTO:+0100
TZNAME:CET
DTSTART:20261025T010000
END:STANDARD
BEGIN:DAYLIGHT
TZOFFSETFROM:+0100
TZOFFSETTO:+0200
TZNAME:CEST
DTSTART:20270328T010000
END:DAYLIGHT
BEGIN:STANDARD
TZOFFSETFROM:+0200
TZOFFSETTO:+0100
TZNAME:CET
DTSTART:20271031T010000
END:STANDARD
BEGIN:DAYLIGHT
TZOFFSETFROM:+0100
TZOFFSETTO:+0200
TZNAME:CEST
DTSTART:20280326T010000
END:DAYLIGHT
BEGIN:STANDARD
TZOFFSETFROM:+0200
TZOFFSETTO:+0100
TZNAME:CET
DTSTART:20281029T010000
END:STANDARD
END:VTIMEZONE
BEGIN:VEVENT
DTSTART;VALUE=DATE:20271016
DTEND;VALUE=DATE:20271017
DTSTAMP:20260420T094818
CREATED:20251008T103503Z
LAST-MODIFIED:20251008T103503Z
UID:6308-1823644800-1823731199@svenskalivraddningssallskapet.se
SUMMARY:Alla kan rädda liv - Dagen
DESCRIPTION:
URL:https://svenskalivraddningssallskapet.se/event/alla-kan-radda-liv-dagen-4/
ATTACH;FMTTYPE=image/png:https://svenskalivraddningssallskapet.se/wp-content/uploads/2023/10/restaer-a-heart-day.png
END:VEVENT
BEGIN:VEVENT
DTSTART;VALUE=DATE:20271201
DTEND;VALUE=DATE:20271202
DTSTAMP:20260420T094818
CREATED:20251008T104257Z
LAST-MODIFIED:20251008T104257Z
UID:6316-1827619200-1827705599@svenskalivraddningssallskapet.se
SUMMARY:Simborgarmärket för 2028 släpps
DESCRIPTION:1 december varje år släpper vi färgen på simborgarmärket för kommande år.
URL:https://svenskalivraddningssallskapet.se/event/simborgarmarket-for-2028-slapps/
ATTACH;FMTTYPE=image/jpeg:https://svenskalivraddningssallskapet.se/wp-content/uploads/2023/10/sls000_simborgaraffisch_2023_1_-1.jpg
END:VEVENT
END:VCALENDAR